BEGIN:VCALENDAR
VERSION:2.0
PRODID:-//Freedom Sailing Camp of Florida, inc - ECPv6.15.20//NONSGML v1.0//EN
CALSCALE:GREGORIAN
METHOD:PUBLISH
X-WR-CALNAME:Freedom Sailing Camp of Florida, inc
X-ORIGINAL-URL:https://freedomsailingcampoffloridainc.com
X-WR-CALDESC:Events for Freedom Sailing Camp of Florida, inc
REFRESH-INTERVAL;VALUE=DURATION:PT1H
X-Robots-Tag:noindex
X-PUBLISHED-TTL:PT1H
BEGIN:VTIMEZONE
TZID:UTC
BEGIN:STANDARD
TZOFFSETFROM:+0000
TZOFFSETTO:+0000
TZNAME:UTC
DTSTART:20240101T000000
END:STANDARD
END:VTIMEZONE
BEGIN:VEVENT
DTSTART;TZID=UTC:20250307T100000
DTEND;TZID=UTC:20250307T120000
DTSTAMP:20260420T080606
CREATED:20241113T225420Z
LAST-MODIFIED:20250415T204850Z
UID:10000949-1741341600-1741348800@freedomsailingcampoffloridainc.com
SUMMARY:Home Schooling Program
DESCRIPTION:Admission Price is $50 for the day. Invoices can be received via PayPal\, Please pay before classes. \nFor more information\, email Mrs. Bonnie at freedomsailingcamp@gmail.com or message us on our Facebook site.
URL:https://freedomsailingcampoffloridainc.com/event/home-schooling-program/2025-03-07/
END:VEVENT
BEGIN:VEVENT
DTSTART;TZID=UTC:20250308T100000
DTEND;TZID=UTC:20250308T120000
DTSTAMP:20260420T080606
CREATED:20241122T212603Z
LAST-MODIFIED:20241122T212603Z
UID:10000906-1741428000-1741435200@freedomsailingcampoffloridainc.com
SUMMARY:Weekend Continued Sailing Program
DESCRIPTION:Admission Price is $50 for the day. Invoices can be received via PayPal\, Please pay before classes. \nFor more information\, email Mrs. Bonnie at freedomsailingcamp@gmail.com or message us on our Facebook site.
URL:https://freedomsailingcampoffloridainc.com/event/weekend-continued-sailing-program-3-2/2025-03-08/
END:VEVENT
BEGIN:VEVENT
DTSTART;TZID=UTC:20250314T100000
DTEND;TZID=UTC:20250314T120000
DTSTAMP:20260420T080606
CREATED:20241113T225420Z
LAST-MODIFIED:20250415T204850Z
UID:10000950-1741946400-1741953600@freedomsailingcampoffloridainc.com
SUMMARY:Home Schooling Program
DESCRIPTION:Admission Price is $50 for the day. Invoices can be received via PayPal\, Please pay before classes. \nFor more information\, email Mrs. Bonnie at freedomsailingcamp@gmail.com or message us on our Facebook site.
URL:https://freedomsailingcampoffloridainc.com/event/home-schooling-program/2025-03-14/
END:VEVENT
BEGIN:VEVENT
DTSTART;TZID=UTC:20250315T100000
DTEND;TZID=UTC:20250315T120000
DTSTAMP:20260420T080606
CREATED:20241122T212603Z
LAST-MODIFIED:20241122T212603Z
UID:10000922-1742032800-1742040000@freedomsailingcampoffloridainc.com
SUMMARY:Weekend Continued Sailing Program
DESCRIPTION:Admission Price is $50 for the day. Invoices can be received via PayPal\, Please pay before classes. \nFor more information\, email Mrs. Bonnie at freedomsailingcamp@gmail.com or message us on our Facebook site.
URL:https://freedomsailingcampoffloridainc.com/event/weekend-continued-sailing-program-3-2/2025-03-15/
END:VEVENT
BEGIN:VEVENT
DTSTART;TZID=UTC:20250317T080000
DTEND;TZID=UTC:20250317T170000
DTSTAMP:20260420T080606
CREATED:20250115T124654Z
LAST-MODIFIED:20250115T124822Z
UID:10001060-1742198400-1742230800@freedomsailingcampoffloridainc.com
SUMMARY:Spring Break 2025
DESCRIPTION:Spring Break Program of 2025.
URL:https://freedomsailingcampoffloridainc.com/event/spring-break-2025/2025-03-17/
END:VEVENT
BEGIN:VEVENT
DTSTART;TZID=UTC:20250318T080000
DTEND;TZID=UTC:20250318T170000
DTSTAMP:20260420T080606
CREATED:20250115T124654Z
LAST-MODIFIED:20250115T124822Z
UID:10001061-1742284800-1742317200@freedomsailingcampoffloridainc.com
SUMMARY:Spring Break 2025
DESCRIPTION:Spring Break Program of 2025.
URL:https://freedomsailingcampoffloridainc.com/event/spring-break-2025/2025-03-18/
END:VEVENT
BEGIN:VEVENT
DTSTART;TZID=UTC:20250319T080000
DTEND;TZID=UTC:20250319T170000
DTSTAMP:20260420T080606
CREATED:20250115T124654Z
LAST-MODIFIED:20250115T124822Z
UID:10001062-1742371200-1742403600@freedomsailingcampoffloridainc.com
SUMMARY:Spring Break 2025
DESCRIPTION:Spring Break Program of 2025.
URL:https://freedomsailingcampoffloridainc.com/event/spring-break-2025/2025-03-19/
END:VEVENT
BEGIN:VEVENT
DTSTART;TZID=UTC:20250320T080000
DTEND;TZID=UTC:20250320T170000
DTSTAMP:20260420T080606
CREATED:20250115T124654Z
LAST-MODIFIED:20250115T124822Z
UID:10001063-1742457600-1742490000@freedomsailingcampoffloridainc.com
SUMMARY:Spring Break 2025
DESCRIPTION:Spring Break Program of 2025.
URL:https://freedomsailingcampoffloridainc.com/event/spring-break-2025/2025-03-20/
END:VEVENT
BEGIN:VEVENT
DTSTART;TZID=UTC:20250321T080000
DTEND;TZID=UTC:20250321T170000
DTSTAMP:20260420T080606
CREATED:20250115T124654Z
LAST-MODIFIED:20250115T124822Z
UID:10001064-1742544000-1742576400@freedomsailingcampoffloridainc.com
SUMMARY:Spring Break 2025
DESCRIPTION:Spring Break Program of 2025.
URL:https://freedomsailingcampoffloridainc.com/event/spring-break-2025/2025-03-21/
END:VEVENT
BEGIN:VEVENT
DTSTART;TZID=UTC:20250321T100000
DTEND;TZID=UTC:20250321T120000
DTSTAMP:20260420T080606
CREATED:20241113T225420Z
LAST-MODIFIED:20250415T204850Z
UID:10000951-1742551200-1742558400@freedomsailingcampoffloridainc.com
SUMMARY:Home Schooling Program
DESCRIPTION:Admission Price is $50 for the day. Invoices can be received via PayPal\, Please pay before classes. \nFor more information\, email Mrs. Bonnie at freedomsailingcamp@gmail.com or message us on our Facebook site.
URL:https://freedomsailingcampoffloridainc.com/event/home-schooling-program/2025-03-21/
END:VEVENT
BEGIN:VEVENT
DTSTART;TZID=UTC:20250322T100000
DTEND;TZID=UTC:20250322T120000
DTSTAMP:20260420T080606
CREATED:20241122T212603Z
LAST-MODIFIED:20241122T212603Z
UID:10000923-1742637600-1742644800@freedomsailingcampoffloridainc.com
SUMMARY:Weekend Continued Sailing Program
DESCRIPTION:Admission Price is $50 for the day. Invoices can be received via PayPal\, Please pay before classes. \nFor more information\, email Mrs. Bonnie at freedomsailingcamp@gmail.com or message us on our Facebook site.
URL:https://freedomsailingcampoffloridainc.com/event/weekend-continued-sailing-program-3-2/2025-03-22/
END:VEVENT
BEGIN:VEVENT
DTSTART;TZID=UTC:20250328T100000
DTEND;TZID=UTC:20250328T120000
DTSTAMP:20260420T080606
CREATED:20241113T225420Z
LAST-MODIFIED:20250415T204850Z
UID:10000952-1743156000-1743163200@freedomsailingcampoffloridainc.com
SUMMARY:Home Schooling Program
DESCRIPTION:Admission Price is $50 for the day. Invoices can be received via PayPal\, Please pay before classes. \nFor more information\, email Mrs. Bonnie at freedomsailingcamp@gmail.com or message us on our Facebook site.
URL:https://freedomsailingcampoffloridainc.com/event/home-schooling-program/2025-03-28/
END:VEVENT
BEGIN:VEVENT
DTSTART;TZID=UTC:20250329T100000
DTEND;TZID=UTC:20250329T120000
DTSTAMP:20260420T080606
CREATED:20241122T212603Z
LAST-MODIFIED:20241122T212603Z
UID:10000924-1743242400-1743249600@freedomsailingcampoffloridainc.com
SUMMARY:Weekend Continued Sailing Program
DESCRIPTION:Admission Price is $50 for the day. Invoices can be received via PayPal\, Please pay before classes. \nFor more information\, email Mrs. Bonnie at freedomsailingcamp@gmail.com or message us on our Facebook site.
URL:https://freedomsailingcampoffloridainc.com/event/weekend-continued-sailing-program-3-2/2025-03-29/
END:VEVENT
END:VCALENDAR